BEGIN:VCALENDAR
VERSION:2.0
PRODID:-//L&#039;ÉVEIL DE LA PERMACULTURE - ECPv5.3.1.1//NONSGML v1.0//EN
CALSCALE:GREGORIAN
METHOD:PUBLISH
X-WR-CALNAME:L&#039;ÉVEIL DE LA PERMACULTURE
X-ORIGINAL-URL:https://leveildelapermaculture-lefilm.com
X-WR-CALDESC:évènements pour L&#039;ÉVEIL DE LA PERMACULTURE
BEGIN:VTIMEZONE
TZID:Europe/Paris
BEGIN:DAYLIGHT
TZOFFSETFROM:+0100
TZOFFSETTO:+0200
TZNAME:CEST
DTSTART:20180325T010000
END:DAYLIGHT
BEGIN:STANDARD
TZOFFSETFROM:+0200
TZOFFSETTO:+0100
TZNAME:CET
DTSTART:20181028T010000
END:STANDARD
END:VTIMEZONE
BEGIN:VEVENT
DTSTART;TZID=Europe/Paris:20181130T203000
DTEND;TZID=Europe/Paris:20181130T223000
DTSTAMP:20260426T053124
CREATED:20180821T092235Z
LAST-MODIFIED:20180821T092235Z
UID:6360-1543609800-1543617000@leveildelapermaculture-lefilm.com
SUMMARY:PRAHECQ (79)
DESCRIPTION:
URL:https://leveildelapermaculture-lefilm.com/projection/prahecq-79/
LOCATION:Sdf Prahecq\, Place de l'Église\, Prahecq\, 79230\, France
GEO:46.2585666;-0.3450322
X-APPLE-STRUCTURED-LOCATION;VALUE=URI;X-ADDRESS=Sdf Prahecq Place de l'Église Prahecq 79230 France;X-APPLE-RADIUS=500;X-TITLE=Place de l'Église:geo:-0.3450322,46.2585666
END:VEVENT
END:VCALENDAR